BEGIN:VCALENDAR
VERSION:2.0
PRODID:icalendar-ruby
CALSCALE:GREGORIAN
METHOD:PUBLISH
BEGIN:VEVENT
DTSTAMP:20260420T115343Z
UID:162-1822505@stpaulanglicanbc.ascendsetup.com
DTSTART:20260823T170000Z
DTEND:20260823T190000Z
CLASS:PUBLIC
CREATED:20260420T033358
DESCRIPTION:Labyrinth - open for walkers
LAST-MODIFIED:20260420T033358
LOCATION:Labyrinth\, 1140 Jervis Street\, Vancouver
SUMMARY:Labyrinth - open for walkers
URL;VALUE=URI:https://stpaulanglicanbc.ascendsetup.com/events/labyrinth-ope
 n-for-walkers/2026-08-23
END:VEVENT
END:VCALENDAR
