BEGIN:VCALENDAR
VERSION:2.0
PRODID:icalendar-ruby
CALSCALE:GREGORIAN
METHOD:PUBLISH
BEGIN:VEVENT
DTSTAMP:20260422T100103Z
UID:162-1837181@stpaulanglicanbc.ascendsetup.com
DTSTART:20260906T170000Z
DTEND:20260906T190000Z
CLASS:PUBLIC
CREATED:20260421T164124
DESCRIPTION:Labyrinth - open for walkers
LAST-MODIFIED:20260421T164124
LOCATION:Labyrinth\, 1140 Jervis Street\, Vancouver
SUMMARY:Labyrinth - open for walkers
URL;VALUE=URI:https://stpaulanglicanbc.ascendsetup.com/events/labyrinth-ope
 n-for-walkers/2026-09-06
END:VEVENT
END:VCALENDAR
