BEGIN:VCALENDAR
VERSION:2.0
PRODID:icalendar-ruby
CALSCALE:GREGORIAN
METHOD:PUBLISH
BEGIN:VEVENT
DTSTAMP:20260422T113855Z
UID:162-1838518@stpaulanglicanbc.ascendsetup.com
DTSTART:20260913T170000Z
DTEND:20260913T190000Z
CLASS:PUBLIC
CREATED:20260422T033820
DESCRIPTION:Labyrinth - open for walkers
LAST-MODIFIED:20260422T033820
LOCATION:Labyrinth\, 1140 Jervis Street\, Vancouver
SUMMARY:Labyrinth - open for walkers
URL;VALUE=URI:https://stpaulanglicanbc.ascendsetup.com/events/labyrinth-ope
 n-for-walkers/2026-09-13
END:VEVENT
END:VCALENDAR
