BEGIN:VCALENDAR
VERSION:2.0
PRODID:icalendar-ruby
CALSCALE:GREGORIAN
METHOD:PUBLISH
BEGIN:VEVENT
DTSTAMP:20260422T180246Z
UID:162-1841192@stpaulanglicanbc.ascendsetup.com
DTSTART:20261011T170000Z
DTEND:20261011T190000Z
CLASS:PUBLIC
CREATED:20260422T092816
DESCRIPTION:Labyrinth - open for walkers
LAST-MODIFIED:20260422T092816
LOCATION:Labyrinth\, 1140 Jervis Street\, Vancouver
SUMMARY:Labyrinth - open for walkers
URL;VALUE=URI:https://stpaulanglicanbc.ascendsetup.com/events/labyrinth-ope
 n-for-walkers/2026-10-11
END:VEVENT
END:VCALENDAR
