BEGIN:VCALENDAR
VERSION:2.0
PRODID:icalendar-ruby
CALSCALE:GREGORIAN
METHOD:PUBLISH
BEGIN:VEVENT
DTSTAMP:20260422T193549Z
UID:162-1842529@stpaulanglicanbc.ascendsetup.com
DTSTART:20261018T170000Z
DTEND:20261018T190000Z
CLASS:PUBLIC
CREATED:20260422T122305
DESCRIPTION:Labyrinth - open for walkers
LAST-MODIFIED:20260422T122305
LOCATION:Labyrinth\, 1140 Jervis Street\, Vancouver
SUMMARY:Labyrinth - open for walkers
URL;VALUE=URI:https://stpaulanglicanbc.ascendsetup.com/events/labyrinth-ope
 n-for-walkers/2026-10-18
END:VEVENT
END:VCALENDAR
