BEGIN:VCALENDAR
VERSION:2.0
PRODID:icalendar-ruby
CALSCALE:GREGORIAN
METHOD:PUBLISH
BEGIN:VEVENT
DTSTAMP:20260422T224037Z
UID:162-1843867@stpaulanglicanbc.ascendsetup.com
DTSTART:20261101T180000Z
DTEND:20261101T200000Z
CLASS:PUBLIC
CREATED:20260422T151728
DESCRIPTION:Labyrinth - open for walkers
LAST-MODIFIED:20260422T151728
LOCATION:Labyrinth\, 1140 Jervis Street\, Vancouver
SUMMARY:Labyrinth - open for walkers
URL;VALUE=URI:https://stpaulanglicanbc.ascendsetup.com/events/labyrinth-ope
 n-for-walkers/2026-11-01
END:VEVENT
END:VCALENDAR
