BEGIN:VCALENDAR
VERSION:2.0
PRODID:icalendar-ruby
CALSCALE:GREGORIAN
METHOD:PUBLISH
BEGIN:VEVENT
DTSTAMP:20260422T100312Z
UID:179-1837500@stpaulanglicanbc.ascendsetup.com
DTSTART:20260831T150000Z
DTEND:20260831T154500Z
CLASS:PUBLIC
CREATED:20260421T164124
DESCRIPTION:Join our Rector\, Philip Cochrane\, as he leads this ancient pr
 actice of Morning Prayer\, including reflections on the readings from the 
 Bible for the day. #morningprayer #dailyoffice #ancientmodern
LAST-MODIFIED:20260421T164124
LOCATION:Online
SUMMARY:Morning Prayer
URL;VALUE=URI:https://stpaulanglicanbc.ascendsetup.com/events/morning-praye
 r--179/2026-08-31
END:VEVENT
END:VCALENDAR
