BEGIN:VCALENDAR
VERSION:2.0
PRODID:icalendar-ruby
CALSCALE:GREGORIAN
METHOD:PUBLISH
BEGIN:VEVENT
DTSTAMP:20260422T113112Z
UID:179-1838837@stpaulanglicanbc.ascendsetup.com
DTSTART:20260907T150000Z
DTEND:20260907T154500Z
CLASS:PUBLIC
CREATED:20260422T033820
DESCRIPTION:Join our Rector\, Philip Cochrane\, as he leads this ancient pr
 actice of Morning Prayer\, including reflections on the readings from the 
 Bible for the day. #morningprayer #dailyoffice #ancientmodern
LAST-MODIFIED:20260422T033820
LOCATION:Online
SUMMARY:Morning Prayer
URL;VALUE=URI:https://stpaulanglicanbc.ascendsetup.com/events/morning-praye
 r--179/2026-09-07
END:VEVENT
END:VCALENDAR
