BEGIN:VCALENDAR
VERSION:2.0
PRODID:icalendar-ruby
CALSCALE:GREGORIAN
METHOD:PUBLISH
BEGIN:VEVENT
DTSTAMP:20260423T002502Z
UID:179-1844187@stpaulanglicanbc.ascendsetup.com
DTSTART:20261102T160000Z
DTEND:20261102T164500Z
CLASS:PUBLIC
CREATED:20260422T151729
DESCRIPTION:Join our Rector\, Philip Cochrane\, as he leads this ancient pr
 actice of Morning Prayer\, including reflections on the readings from the 
 Bible for the day. #morningprayer #dailyoffice #ancientmodern
LAST-MODIFIED:20260422T151729
LOCATION:Online
SUMMARY:Morning Prayer
URL;VALUE=URI:https://stpaulanglicanbc.ascendsetup.com/events/morning-praye
 r--179/2026-11-02
END:VEVENT
END:VCALENDAR
