BEGIN:VCALENDAR
VERSION:2.0
PRODID:icalendar-ruby
CALSCALE:GREGORIAN
METHOD:PUBLISH
BEGIN:VEVENT
DTSTAMP:20260422T150002Z
UID:180-1840324@stpaulanglicanbc.ascendsetup.com
DTSTART:20260915T150000Z
DTEND:20260915T154500Z
CLASS:PUBLIC
CREATED:20260422T063256
DESCRIPTION:Join our Rector\, Philip Cochrane\, as he leads this ancient pr
 actice of Morning Prayer\, including reflections on the readings from the 
 Bible for the day. #morningprayer #dailyoffice #ancientmodern
LAST-MODIFIED:20260422T063256
LOCATION:Online
SUMMARY:Morning Prayer
URL;VALUE=URI:https://stpaulanglicanbc.ascendsetup.com/events/morning-praye
 r--180/2026-09-15
END:VEVENT
END:VCALENDAR
