BEGIN:VCALENDAR
VERSION:2.0
PRODID:icalendar-ruby
CALSCALE:GREGORIAN
METHOD:PUBLISH
BEGIN:VEVENT
DTSTAMP:20260422T230237Z
UID:180-1844336@stpaulanglicanbc.ascendsetup.com
DTSTART:20261020T150000Z
DTEND:20261020T154500Z
CLASS:PUBLIC
CREATED:20260422T151729
DESCRIPTION:Join our Rector\, Philip Cochrane\, as he leads this ancient pr
 actice of Morning Prayer\, including reflections on the readings from the 
 Bible for the day. #morningprayer #dailyoffice #ancientmodern
LAST-MODIFIED:20260422T151729
LOCATION:Online
SUMMARY:Morning Prayer
URL;VALUE=URI:https://stpaulanglicanbc.ascendsetup.com/events/morning-praye
 r--180/2026-10-20
END:VEVENT
END:VCALENDAR
