BEGIN:VCALENDAR
VERSION:2.0
PRODID:icalendar-ruby
CALSCALE:GREGORIAN
METHOD:PUBLISH
BEGIN:VEVENT
DTSTAMP:20260420T101451Z
UID:181-1821791@stpaulanglicanbc.ascendsetup.com
DTSTART;VALUE=DATE:20260820
DTEND;VALUE=DATE:20260820
CLASS:PUBLIC
CREATED:20260419T221423
DESCRIPTION:Join our Rector\, Philip Cochrane\, as he leads this ancient pr
 actice of Morning Prayer\, including reflections on the readings from the 
 Bible for the day. #morningprayer #dailyoffice #ancientmodern
LAST-MODIFIED:20260419T221423
LOCATION:Online
SUMMARY:Morning Prayer
URL;VALUE=URI:https://stpaulanglicanbc.ascendsetup.com/events/morning-praye
 r--181/2026-08-20
END:VEVENT
END:VCALENDAR
