BEGIN:VCALENDAR
VERSION:2.0
PRODID:icalendar-ruby
CALSCALE:GREGORIAN
METHOD:PUBLISH
BEGIN:VEVENT
DTSTAMP:20260420T114643Z
UID:181-1823126@stpaulanglicanbc.ascendsetup.com
DTSTART;VALUE=DATE:20260827
DTEND;VALUE=DATE:20260827
CLASS:PUBLIC
CREATED:20260420T033359
DESCRIPTION:Join our Rector\, Philip Cochrane\, as he leads this ancient pr
 actice of Morning Prayer\, including reflections on the readings from the 
 Bible for the day. #morningprayer #dailyoffice #ancientmodern
LAST-MODIFIED:20260420T033359
LOCATION:Online
SUMMARY:Morning Prayer
URL;VALUE=URI:https://stpaulanglicanbc.ascendsetup.com/events/morning-praye
 r--181/2026-08-27
END:VEVENT
END:VCALENDAR
