BEGIN:VCALENDAR
VERSION:2.0
PRODID:icalendar-ruby
CALSCALE:GREGORIAN
METHOD:PUBLISH
BEGIN:VEVENT
DTSTAMP:20260422T150649Z
UID:181-1840478@stpaulanglicanbc.ascendsetup.com
DTSTART;VALUE=DATE:20261001
DTEND;VALUE=DATE:20261001
CLASS:PUBLIC
CREATED:20260422T063256
DESCRIPTION:Join our Rector\, Philip Cochrane\, as he leads this ancient pr
 actice of Morning Prayer\, including reflections on the readings from the 
 Bible for the day. #morningprayer #dailyoffice #ancientmodern
LAST-MODIFIED:20260422T063256
LOCATION:Online
SUMMARY:Morning Prayer
URL;VALUE=URI:https://stpaulanglicanbc.ascendsetup.com/events/morning-praye
 r--181/2026-10-01
END:VEVENT
END:VCALENDAR
