BEGIN:VCALENDAR
VERSION:2.0
PRODID:icalendar-ruby
CALSCALE:GREGORIAN
METHOD:PUBLISH
BEGIN:VEVENT
DTSTAMP:20260420T122118Z
UID:182-1823270@stpaulanglicanbc.ascendsetup.com
DTSTART:20260819T150000Z
DTEND:20260819T154500Z
CLASS:PUBLIC
CREATED:20260420T033359
DESCRIPTION:
LAST-MODIFIED:20260420T033359
LOCATION:Online
SUMMARY:Morning Prayer 
URL;VALUE=URI:https://stpaulanglicanbc.ascendsetup.com/events/morning-praye
 r--182/2026-08-19
END:VEVENT
END:VCALENDAR
