BEGIN:VCALENDAR
VERSION:2.0
PRODID:icalendar-ruby
CALSCALE:GREGORIAN
METHOD:PUBLISH
BEGIN:VEVENT
DTSTAMP:20260422T100916Z
UID:182-1837948@stpaulanglicanbc.ascendsetup.com
DTSTART:20260902T150000Z
DTEND:20260902T154500Z
CLASS:PUBLIC
CREATED:20260421T164125
DESCRIPTION:
LAST-MODIFIED:20260421T164125
LOCATION:Online
SUMMARY:Morning Prayer 
URL;VALUE=URI:https://stpaulanglicanbc.ascendsetup.com/events/morning-praye
 r--182/2026-09-02
END:VEVENT
END:VCALENDAR
