BEGIN:VCALENDAR
VERSION:2.0
PRODID:icalendar-ruby
CALSCALE:GREGORIAN
METHOD:PUBLISH
BEGIN:VEVENT
DTSTAMP:20260422T113703Z
UID:182-1839285@stpaulanglicanbc.ascendsetup.com
DTSTART:20260909T150000Z
DTEND:20260909T154500Z
CLASS:PUBLIC
CREATED:20260422T033821
DESCRIPTION:
LAST-MODIFIED:20260422T033821
LOCATION:Online
SUMMARY:Morning Prayer 
URL;VALUE=URI:https://stpaulanglicanbc.ascendsetup.com/events/morning-praye
 r--182/2026-09-09
END:VEVENT
END:VCALENDAR
