BEGIN:VCALENDAR
VERSION:2.0
PRODID:icalendar-ruby
CALSCALE:GREGORIAN
METHOD:PUBLISH
BEGIN:VEVENT
DTSTAMP:20260422T162154Z
UID:182-1840623@stpaulanglicanbc.ascendsetup.com
DTSTART:20260930T150000Z
DTEND:20260930T154500Z
CLASS:PUBLIC
CREATED:20260422T063256
DESCRIPTION:
LAST-MODIFIED:20260422T063256
LOCATION:Online
SUMMARY:Morning Prayer 
URL;VALUE=URI:https://stpaulanglicanbc.ascendsetup.com/events/morning-praye
 r--182/2026-09-30
END:VEVENT
END:VCALENDAR
