BEGIN:VCALENDAR
VERSION:2.0
PRODID:icalendar-ruby
CALSCALE:GREGORIAN
METHOD:PUBLISH
BEGIN:VEVENT
DTSTAMP:20260422T210832Z
UID:182-1843297@stpaulanglicanbc.ascendsetup.com
DTSTART:20261021T150000Z
DTEND:20261021T154500Z
CLASS:PUBLIC
CREATED:20260422T122307
DESCRIPTION:
LAST-MODIFIED:20260422T122307
LOCATION:Online
SUMMARY:Morning Prayer 
URL;VALUE=URI:https://stpaulanglicanbc.ascendsetup.com/events/morning-praye
 r--182/2026-10-21
END:VEVENT
END:VCALENDAR
