BEGIN:VCALENDAR
VERSION:2.0
PRODID:icalendar-ruby
CALSCALE:GREGORIAN
METHOD:PUBLISH
BEGIN:VEVENT
DTSTAMP:20260422T224510Z
UID:182-1844634@stpaulanglicanbc.ascendsetup.com
DTSTART:20261028T150000Z
DTEND:20261028T154500Z
CLASS:PUBLIC
CREATED:20260422T151730
DESCRIPTION:
LAST-MODIFIED:20260422T151730
LOCATION:Online
SUMMARY:Morning Prayer 
URL;VALUE=URI:https://stpaulanglicanbc.ascendsetup.com/events/morning-praye
 r--182/2026-10-28
END:VEVENT
END:VCALENDAR
