BEGIN:VCALENDAR
VERSION:2.0
PRODID:icalendar-ruby
CALSCALE:GREGORIAN
METHOD:PUBLISH
BEGIN:VEVENT
DTSTAMP:20260423T003119Z
UID:182-1844635@stpaulanglicanbc.ascendsetup.com
DTSTART:20261104T160000Z
DTEND:20261104T164500Z
CLASS:PUBLIC
CREATED:20260422T151730
DESCRIPTION:
LAST-MODIFIED:20260422T151730
LOCATION:Online
SUMMARY:Morning Prayer 
URL;VALUE=URI:https://stpaulanglicanbc.ascendsetup.com/events/morning-praye
 r--182/2026-11-04
END:VEVENT
END:VCALENDAR
