BEGIN:VCALENDAR
VERSION:2.0
PRODID:icalendar-ruby
CALSCALE:GREGORIAN
METHOD:PUBLISH
BEGIN:VEVENT
DTSTAMP:20260422T100631Z
UID:173-1837356@stpaulanglicanbc.ascendsetup.com
DTSTART:20260906T180000Z
DTEND:20260906T200000Z
CLASS:PUBLIC
CREATED:20260421T164124
DESCRIPTION:
LAST-MODIFIED:20260421T164124
LOCATION:St. Paul's
SUMMARY:Sunday Worship Service @ 11 
URL;VALUE=URI:https://stpaulanglicanbc.ascendsetup.com/events/sunday-worshi
 p-service-11/2026-09-06
ATTACH;FILENAME=dddd.jpeg;FMTTYPE=image/jpeg:https://dq5pwpg1q8ru0.cloudfro
 nt.net/2023/06/30/13/52/25/dec17f76-b504-4f93-ab6c-c2b419d5ce39/dddd.jpeg
END:VEVENT
END:VCALENDAR
